BEGIN:VCALENDAR
VERSION:2.0
PRODID:-//Calmwater Managment Services - ECPv6.15.18//NONSGML v1.0//EN
CALSCALE:GREGORIAN
METHOD:PUBLISH
X-WR-CALNAME:Calmwater Managment Services
X-ORIGINAL-URL:https://calmwaterservices.ca
X-WR-CALDESC:Events for Calmwater Managment Services
REFRESH-INTERVAL;VALUE=DURATION:PT1H
X-Robots-Tag:noindex
X-PUBLISHED-TTL:PT1H
BEGIN:VTIMEZONE
TZID:America/Vancouver
BEGIN:DAYLIGHT
TZOFFSETFROM:-0800
TZOFFSETTO:-0700
TZNAME:PDT
DTSTART:20250309T100000
END:DAYLIGHT
BEGIN:STANDARD
TZOFFSETFROM:-0700
TZOFFSETTO:-0800
TZNAME:PST
DTSTART:20251102T090000
END:STANDARD
BEGIN:DAYLIGHT
TZOFFSETFROM:-0800
TZOFFSETTO:-0700
TZNAME:PDT
DTSTART:20260308T100000
END:DAYLIGHT
BEGIN:STANDARD
TZOFFSETFROM:-0700
TZOFFSETTO:-0800
TZNAME:PST
DTSTART:20261101T090000
END:STANDARD
BEGIN:DAYLIGHT
TZOFFSETFROM:-0800
TZOFFSETTO:-0700
TZNAME:PDT
DTSTART:20270314T100000
END:DAYLIGHT
BEGIN:STANDARD
TZOFFSETFROM:-0700
TZOFFSETTO:-0800
TZNAME:PST
DTSTART:20271107T090000
END:STANDARD
END:VTIMEZONE
BEGIN:VEVENT
DTSTART;VALUE=DATE:20260502
DTEND;VALUE=DATE:20260503
DTSTAMP:20260425T073456
CREATED:20260326T004453Z
LAST-MODIFIED:20260326T004453Z
UID:10000467-1777680000-1777766399@calmwaterservices.ca
SUMMARY:Pay Period Ends
DESCRIPTION:
URL:https://calmwaterservices.ca/event/pay-period-ends/2026-05-02/
CATEGORIES:PP End
END:VEVENT
BEGIN:VEVENT
DTSTART;VALUE=DATE:20260503
DTEND;VALUE=DATE:20260504
DTSTAMP:20260425T073456
CREATED:20260326T004254Z
LAST-MODIFIED:20260326T004254Z
UID:10000331-1777766400-1777852799@calmwaterservices.ca
SUMMARY:Pay Period Start
DESCRIPTION:
URL:https://calmwaterservices.ca/event/pay-period-start-6/2026-05-03/
CATEGORIES:PP Start
END:VEVENT
BEGIN:VEVENT
DTSTART;VALUE=DATE:20260507
DTEND;VALUE=DATE:20260508
DTSTAMP:20260425T073456
CREATED:20260326T004536Z
LAST-MODIFIED:20260326T012106Z
UID:10000604-1778112000-1778198399@calmwaterservices.ca
SUMMARY:Pay Day
DESCRIPTION:
URL:https://calmwaterservices.ca/event/pay-day/2026-05-07/
CATEGORIES:Pay Day,Payroll
END:VEVENT
BEGIN:VEVENT
DTSTART;VALUE=DATE:20260516
DTEND;VALUE=DATE:20260517
DTSTAMP:20260425T073456
CREATED:20260326T004453Z
LAST-MODIFIED:20260326T004453Z
UID:10000468-1778889600-1778975999@calmwaterservices.ca
SUMMARY:Pay Period Ends
DESCRIPTION:
URL:https://calmwaterservices.ca/event/pay-period-ends/2026-05-16/
CATEGORIES:PP End
END:VEVENT
BEGIN:VEVENT
DTSTART;VALUE=DATE:20260517
DTEND;VALUE=DATE:20260518
DTSTAMP:20260425T073456
CREATED:20260326T004254Z
LAST-MODIFIED:20260326T004254Z
UID:10000332-1778976000-1779062399@calmwaterservices.ca
SUMMARY:Pay Period Start
DESCRIPTION:
URL:https://calmwaterservices.ca/event/pay-period-start-6/2026-05-17/
CATEGORIES:PP Start
END:VEVENT
BEGIN:VEVENT
DTSTART;VALUE=DATE:20260518
DTEND;VALUE=DATE:20260519
DTSTAMP:20260425T073456
CREATED:20250730T233911Z
LAST-MODIFIED:20250730T233911Z
UID:10000015-1779062400-1779148799@calmwaterservices.ca
SUMMARY:Victoria Day 2026
DESCRIPTION:
URL:https://calmwaterservices.ca/event/victoria-day-2026/
CATEGORIES:Alberta Stat Holidays,BC Stat Holidays
END:VEVENT
BEGIN:VEVENT
DTSTART;VALUE=DATE:20260521
DTEND;VALUE=DATE:20260522
DTSTAMP:20260425T073456
CREATED:20260326T004536Z
LAST-MODIFIED:20260326T012106Z
UID:10000605-1779321600-1779407999@calmwaterservices.ca
SUMMARY:Pay Day
DESCRIPTION:
URL:https://calmwaterservices.ca/event/pay-day/2026-05-21/
CATEGORIES:Pay Day,Payroll
END:VEVENT
BEGIN:VEVENT
DTSTART;VALUE=DATE:20260530
DTEND;VALUE=DATE:20260531
DTSTAMP:20260425T073456
CREATED:20260326T004453Z
LAST-MODIFIED:20260326T004453Z
UID:10000469-1780099200-1780185599@calmwaterservices.ca
SUMMARY:Pay Period Ends
DESCRIPTION:
URL:https://calmwaterservices.ca/event/pay-period-ends/2026-05-30/
CATEGORIES:PP End
END:VEVENT
BEGIN:VEVENT
DTSTART;VALUE=DATE:20260531
DTEND;VALUE=DATE:20260601
DTSTAMP:20260425T073456
CREATED:20260326T004254Z
LAST-MODIFIED:20260326T004254Z
UID:10000333-1780185600-1780271999@calmwaterservices.ca
SUMMARY:Pay Period Start
DESCRIPTION:
URL:https://calmwaterservices.ca/event/pay-period-start-6/2026-05-31/
CATEGORIES:PP Start
END:VEVENT
BEGIN:VEVENT
DTSTART;VALUE=DATE:20260604
DTEND;VALUE=DATE:20260605
DTSTAMP:20260425T073456
CREATED:20260326T004536Z
LAST-MODIFIED:20260326T012106Z
UID:10000606-1780531200-1780617599@calmwaterservices.ca
SUMMARY:Pay Day
DESCRIPTION:
URL:https://calmwaterservices.ca/event/pay-day/2026-06-04/
CATEGORIES:Pay Day,Payroll
END:VEVENT
BEGIN:VEVENT
DTSTART;VALUE=DATE:20260613
DTEND;VALUE=DATE:20260614
DTSTAMP:20260425T073456
CREATED:20260326T004453Z
LAST-MODIFIED:20260326T004453Z
UID:10000470-1781308800-1781395199@calmwaterservices.ca
SUMMARY:Pay Period Ends
DESCRIPTION:
URL:https://calmwaterservices.ca/event/pay-period-ends/2026-06-13/
CATEGORIES:PP End
END:VEVENT
BEGIN:VEVENT
DTSTART;VALUE=DATE:20260614
DTEND;VALUE=DATE:20260615
DTSTAMP:20260425T073456
CREATED:20260326T004254Z
LAST-MODIFIED:20260326T004254Z
UID:10000334-1781395200-1781481599@calmwaterservices.ca
SUMMARY:Pay Period Start
DESCRIPTION:
URL:https://calmwaterservices.ca/event/pay-period-start-6/2026-06-14/
CATEGORIES:PP Start
END:VEVENT
BEGIN:VEVENT
DTSTART;VALUE=DATE:20260618
DTEND;VALUE=DATE:20260619
DTSTAMP:20260425T073456
CREATED:20260326T004536Z
LAST-MODIFIED:20260326T012106Z
UID:10000607-1781740800-1781827199@calmwaterservices.ca
SUMMARY:Pay Day
DESCRIPTION:
URL:https://calmwaterservices.ca/event/pay-day/2026-06-18/
CATEGORIES:Pay Day,Payroll
END:VEVENT
BEGIN:VEVENT
DTSTART;VALUE=DATE:20260627
DTEND;VALUE=DATE:20260628
DTSTAMP:20260425T073456
CREATED:20260326T004453Z
LAST-MODIFIED:20260326T004453Z
UID:10000471-1782518400-1782604799@calmwaterservices.ca
SUMMARY:Pay Period Ends
DESCRIPTION:
URL:https://calmwaterservices.ca/event/pay-period-ends/2026-06-27/
CATEGORIES:PP End
END:VEVENT
BEGIN:VEVENT
DTSTART;VALUE=DATE:20260628
DTEND;VALUE=DATE:20260629
DTSTAMP:20260425T073456
CREATED:20260326T004254Z
LAST-MODIFIED:20260326T004254Z
UID:10000335-1782604800-1782691199@calmwaterservices.ca
SUMMARY:Pay Period Start
DESCRIPTION:
URL:https://calmwaterservices.ca/event/pay-period-start-6/2026-06-28/
CATEGORIES:PP Start
END:VEVENT
BEGIN:VEVENT
DTSTART;VALUE=DATE:20260701
DTEND;VALUE=DATE:20260702
DTSTAMP:20260425T073456
CREATED:20250730T233950Z
LAST-MODIFIED:20250730T233950Z
UID:10000016-1782864000-1782950399@calmwaterservices.ca
SUMMARY:Canada Day 2026
DESCRIPTION:
URL:https://calmwaterservices.ca/event/canada-day-2026/
CATEGORIES:Alberta Stat Holidays,BC Stat Holidays
END:VEVENT
BEGIN:VEVENT
DTSTART;VALUE=DATE:20260702
DTEND;VALUE=DATE:20260703
DTSTAMP:20260425T073456
CREATED:20260326T004536Z
LAST-MODIFIED:20260326T012106Z
UID:10000608-1782950400-1783036799@calmwaterservices.ca
SUMMARY:Pay Day
DESCRIPTION:
URL:https://calmwaterservices.ca/event/pay-day/2026-07-02/
CATEGORIES:Pay Day,Payroll
END:VEVENT
BEGIN:VEVENT
DTSTART;VALUE=DATE:20260711
DTEND;VALUE=DATE:20260712
DTSTAMP:20260425T073456
CREATED:20260326T004453Z
LAST-MODIFIED:20260326T004453Z
UID:10000472-1783728000-1783814399@calmwaterservices.ca
SUMMARY:Pay Period Ends
DESCRIPTION:
URL:https://calmwaterservices.ca/event/pay-period-ends/2026-07-11/
CATEGORIES:PP End
END:VEVENT
BEGIN:VEVENT
DTSTART;VALUE=DATE:20260712
DTEND;VALUE=DATE:20260713
DTSTAMP:20260425T073456
CREATED:20260326T004254Z
LAST-MODIFIED:20260326T004254Z
UID:10000336-1783814400-1783900799@calmwaterservices.ca
SUMMARY:Pay Period Start
DESCRIPTION:
URL:https://calmwaterservices.ca/event/pay-period-start-6/2026-07-12/
CATEGORIES:PP Start
END:VEVENT
BEGIN:VEVENT
DTSTART;VALUE=DATE:20260716
DTEND;VALUE=DATE:20260717
DTSTAMP:20260425T073456
CREATED:20260326T004536Z
LAST-MODIFIED:20260326T012106Z
UID:10000609-1784160000-1784246399@calmwaterservices.ca
SUMMARY:Pay Day
DESCRIPTION:
URL:https://calmwaterservices.ca/event/pay-day/2026-07-16/
CATEGORIES:Pay Day,Payroll
END:VEVENT
BEGIN:VEVENT
DTSTART;VALUE=DATE:20260725
DTEND;VALUE=DATE:20260726
DTSTAMP:20260425T073456
CREATED:20260326T004453Z
LAST-MODIFIED:20260326T004453Z
UID:10000473-1784937600-1785023999@calmwaterservices.ca
SUMMARY:Pay Period Ends
DESCRIPTION:
URL:https://calmwaterservices.ca/event/pay-period-ends/2026-07-25/
CATEGORIES:PP End
END:VEVENT
BEGIN:VEVENT
DTSTART;VALUE=DATE:20260726
DTEND;VALUE=DATE:20260727
DTSTAMP:20260425T073456
CREATED:20260326T004254Z
LAST-MODIFIED:20260326T004254Z
UID:10000337-1785024000-1785110399@calmwaterservices.ca
SUMMARY:Pay Period Start
DESCRIPTION:
URL:https://calmwaterservices.ca/event/pay-period-start-6/2026-07-26/
CATEGORIES:PP Start
END:VEVENT
BEGIN:VEVENT
DTSTART;VALUE=DATE:20260730
DTEND;VALUE=DATE:20260731
DTSTAMP:20260425T073456
CREATED:20260326T004536Z
LAST-MODIFIED:20260326T012106Z
UID:10000610-1785369600-1785455999@calmwaterservices.ca
SUMMARY:Pay Day
DESCRIPTION:
URL:https://calmwaterservices.ca/event/pay-day/2026-07-30/
CATEGORIES:Pay Day,Payroll
END:VEVENT
BEGIN:VEVENT
DTSTART;VALUE=DATE:20260808
DTEND;VALUE=DATE:20260809
DTSTAMP:20260425T073456
CREATED:20260326T004453Z
LAST-MODIFIED:20260326T004453Z
UID:10000474-1786147200-1786233599@calmwaterservices.ca
SUMMARY:Pay Period Ends
DESCRIPTION:
URL:https://calmwaterservices.ca/event/pay-period-ends/2026-08-08/
CATEGORIES:PP End
END:VEVENT
BEGIN:VEVENT
DTSTART;VALUE=DATE:20260809
DTEND;VALUE=DATE:20260810
DTSTAMP:20260425T073456
CREATED:20260326T004254Z
LAST-MODIFIED:20260326T004254Z
UID:10000338-1786233600-1786319999@calmwaterservices.ca
SUMMARY:Pay Period Start
DESCRIPTION:
URL:https://calmwaterservices.ca/event/pay-period-start-6/2026-08-09/
CATEGORIES:PP Start
END:VEVENT
BEGIN:VEVENT
DTSTART;VALUE=DATE:20260813
DTEND;VALUE=DATE:20260814
DTSTAMP:20260425T073456
CREATED:20260326T004536Z
LAST-MODIFIED:20260326T012106Z
UID:10000611-1786579200-1786665599@calmwaterservices.ca
SUMMARY:Pay Day
DESCRIPTION:
URL:https://calmwaterservices.ca/event/pay-day/2026-08-13/
CATEGORIES:Pay Day,Payroll
END:VEVENT
BEGIN:VEVENT
DTSTART;VALUE=DATE:20260822
DTEND;VALUE=DATE:20260823
DTSTAMP:20260425T073456
CREATED:20260326T004453Z
LAST-MODIFIED:20260326T004453Z
UID:10000475-1787356800-1787443199@calmwaterservices.ca
SUMMARY:Pay Period Ends
DESCRIPTION:
URL:https://calmwaterservices.ca/event/pay-period-ends/2026-08-22/
CATEGORIES:PP End
END:VEVENT
BEGIN:VEVENT
DTSTART;VALUE=DATE:20260823
DTEND;VALUE=DATE:20260824
DTSTAMP:20260425T073456
CREATED:20260326T004254Z
LAST-MODIFIED:20260326T004254Z
UID:10000339-1787443200-1787529599@calmwaterservices.ca
SUMMARY:Pay Period Start
DESCRIPTION:
URL:https://calmwaterservices.ca/event/pay-period-start-6/2026-08-23/
CATEGORIES:PP Start
END:VEVENT
BEGIN:VEVENT
DTSTART;VALUE=DATE:20260827
DTEND;VALUE=DATE:20260828
DTSTAMP:20260425T073456
CREATED:20260326T004536Z
LAST-MODIFIED:20260326T012106Z
UID:10000612-1787788800-1787875199@calmwaterservices.ca
SUMMARY:Pay Day
DESCRIPTION:
URL:https://calmwaterservices.ca/event/pay-day/2026-08-27/
CATEGORIES:Pay Day,Payroll
END:VEVENT
BEGIN:VEVENT
DTSTART;VALUE=DATE:20260905
DTEND;VALUE=DATE:20260906
DTSTAMP:20260425T073456
CREATED:20260326T004453Z
LAST-MODIFIED:20260326T004453Z
UID:10000476-1788566400-1788652799@calmwaterservices.ca
SUMMARY:Pay Period Ends
DESCRIPTION:
URL:https://calmwaterservices.ca/event/pay-period-ends/2026-09-05/
CATEGORIES:PP End
END:VEVENT
END:VCALENDAR